{"text_format":"2","workbook":"xlsx","n_sheets":8,"sheets":["은평구총괄","유형별","정도별","연령별","연령별,유형별","Sheet1","Sheet2","Sheet3"],"not_rendered":{"charts":0,"images":0,"macros":0,"external_links":0,"defined_names":5,"comments":0,"pivot_tables":0},"unopened":[],"bounds":{"document_bytes":16777216,"sheet_cells":100000,"run_cost":"one","rows_first":2000,"rows_last":500,"rows_between":2000,"halvings":0,"cell_chars":16384,"cell_head_chars":4096},"cells_cut":0,"cells_raw":0,"read":"whole","date_system":"1900"}

{"sheet":"은평구총괄","index":0,"n_rows":22,"n_cols":12,"rows_kept":22,"cut":false,"hidden":false,"merged":[[0,1,0,11],[2,1,2,3],[2,9,2,11],[3,1,3,8],[3,9,3,11],[6,1,21,1],[4,1,5,1],[4,2,5,2],[1,9,1,11],[1,1,1,8],[4,6,4,8],[4,3,4,5],[4,9,4,11]]}
[null,"은평구 등록장애인 현황\n(2024. 8월 말 기준)"]
[]
[null,"서울특별시 은평구",{"$nulls":7},"(단위 : 명)"]
[]
[null,"자치구","장애유형","합계",null,null,"심한 장애",null,null,"심하지 않은 장애"]
[null,null,null,"계","남","여","계","남","여","계","남","여"]
[null,"은평구","합 계",21369,12444,8925,8107,5074,3033,13262,7370,5892]
[null,null,"지체",8420,4596,3824,1374,881,493,7046,3715,3331]
[null,null,"시각",2276,1331,945,431,235,196,1845,1096,749]
[null,null,"청각",3359,1867,1492,634,320,314,2725,1547,1178]
[null,null,"언어",170,123,47,90,65,25,80,58,22]
[null,null,"지적",1875,1231,644,1875,1231,644,0,0,0]
[null,null,"뇌병변",2121,1251,870,1190,677,513,931,574,357]
[null,null,"자폐성",473,395,78,473,395,78,0,0,0]
[null,null,"정신",1128,691,437,1102,677,425,26,14,12]
[null,null,"신장",952,582,370,750,468,282,202,114,88]
[null,null,"심장",44,26,18,30,14,16,14,12,2]
[null,null,"호흡기",115,82,33,110,81,29,5,1,4]
[null,null,"간",162,107,55,7,5,2,155,102,53]
[null,null,"안면",24,14,10,9,6,3,15,8,7]
[null,null,"장루.요루",182,115,67,20,13,7,162,102,60]
[null,null,"뇌전증",68,33,35,12,6,6,56,27,29]

{"sheet":"유형별","index":1,"n_rows":20,"n_cols":49,"rows_kept":20,"cut":false,"hidden":false,"merged":[[0,0,0,46],[1,46,1,48],[1,34,1,36],[1,37,1,39],[1,40,1,42],[1,43,1,45],[1,31,1,33],[1,16,1,18],[1,19,1,21],[1,22,1,24],[1,25,1,27],[1,28,1,30],[1,1,1,3],[1,4,1,6],[1,7,1,9],[1,10,1,12],[1,13,1,15],[1,0,2,0]]}
[" 은평구 동별 장애인현황(유형별)\n(2024. 7월말)"]
["동별","합계",null,null,"지체",null,null,"시각",null,null,"청각",null,null,"언어",null,null,"지적",null,null,"뇌병변",null,null,"자폐",null,null,"정신",null,null,"신장",null,null,"심장",null,null,"호흡기",null,null,"간",null,null,"안면",null,null,"장루.요루",null,null,"뇌전증"]
[null,"합계","남성","여성","소계","남성","여성","소계","남성","여성","소계","남성","여성","소계","남성","여성","소계","남성","여성","소계","남성","여성","소계","남성","여성","소계","남성","여성","소계","남성","여성","소계","남성","여성","소계","남성","여성","소계","남성","여성","소계","남성","여성","소계","남성","여성","소계","남성","여성"]
["합  계",21369,12444,8925,8420,4596,3824,2276,1331,945,3359,1867,1492,170,123,47,1875,1231,644,2121,1251,870,473,395,78,1128,691,437,952,582,370,44,26,18,115,82,33,162,107,55,24,14,10,182,115,67,68,33,35]
["녹번동",1623,926,697,672,368,304,177,112,65,290,154,136,17,12,5,117,73,44,162,83,79,22,16,6,62,36,26,67,44,23,2,1,1,6,4,2,8,7,1,3,3,0,15,10,5,3,3,0]
["불광1동",1625,914,711,664,365,299,191,112,79,266,152,114,12,9,3,104,59,45,152,81,71,29,25,4,68,36,32,95,51,44,3,1,2,7,6,1,18,10,8,2,1,1,10,4,6,4,2,2]
["불광2동",1427,845,582,543,305,238,165,109,56,258,152,106,17,15,2,112,70,42,126,76,50,26,26,0,71,29,42,64,39,25,4,4,0,2,2,0,8,5,3,2,1,1,19,8,11,10,4,6]
["갈현1동",689,383,306,273,143,130,88,51,37,110,60,50,2,1,1,56,34,22,59,40,19,15,13,2,40,17,23,29,14,15,2,1,1,2,2,0,6,3,3,0,0,0,6,3,3,1,1,0]
["갈현2동",1274,739,535,525,292,233,127,80,47,190,112,78,19,16,3,116,71,45,105,59,46,21,15,6,74,31,43,62,40,22,5,2,3,7,6,1,12,8,4,0,0,0,9,7,2,2,0,2]
["구산동",2127,1469,658,598,336,262,159,97,62,246,143,103,15,11,4,396,307,89,223,161,62,44,37,7,312,276,36,63,46,17,0,0,0,26,19,7,16,15,1,3,1,2,19,16,3,7,4,3]
["대조동",1219,702,517,497,277,220,142,77,65,208,123,85,8,6,2,67,46,21,120,69,51,25,20,5,65,29,36,59,36,23,3,1,2,6,5,1,4,3,1,1,1,0,10,8,2,4,1,3]
["응암1동",1323,727,596,573,296,277,150,84,66,228,108,120,8,5,3,70,43,27,132,85,47,29,25,4,46,29,17,53,28,25,5,3,2,5,5,0,9,5,4,2,2,0,10,8,2,3,1,2]
["응암2동",975,538,437,376,203,173,92,48,44,154,77,77,8,6,2,69,44,25,105,55,50,36,31,5,50,32,18,51,24,27,3,2,1,9,6,3,8,3,5,2,0,2,6,3,3,6,4,2]
["응암3동",1302,737,565,521,286,235,147,79,68,235,120,115,8,6,2,90,60,30,139,86,53,18,14,4,51,26,25,54,39,15,3,2,1,7,5,2,13,4,9,0,0,0,11,9,2,5,1,4]
["역촌동",2141,1198,943,887,457,430,203,119,84,338,191,147,14,6,8,196,125,71,229,138,91,39,32,7,92,41,51,97,60,37,1,1,0,13,7,6,11,7,4,1,1,0,14,9,5,6,4,2]
["신사1동",1237,745,492,485,290,195,155,87,68,170,111,59,15,8,7,148,86,62,110,60,50,25,20,5,50,33,17,52,36,16,1,1,0,6,3,3,5,4,1,2,1,1,9,4,5,4,1,3]
["신사2동",892,513,379,373,199,174,88,58,30,130,69,61,7,7,0,84,48,36,78,47,31,21,17,4,30,20,10,55,33,22,3,1,2,7,5,2,3,2,1,1,1,0,8,3,5,4,3,1]
["증산동",756,443,313,323,182,141,65,37,28,132,78,54,5,2,3,52,34,18,70,37,33,17,17,0,34,17,17,36,22,14,1,1,0,2,2,0,8,7,1,1,0,1,6,6,0,4,1,3]
["수색동",823,449,374,316,166,150,100,55,45,128,69,59,4,4,0,67,45,22,99,47,52,24,20,4,28,12,16,32,18,14,1,0,1,3,0,3,11,8,3,2,2,0,8,3,5,0,0,0]
["진관동",1936,1116,820,794,431,363,227,126,101,276,148,128,11,9,2,131,86,45,212,127,85,82,67,15,55,27,28,83,52,31,7,5,2,7,5,2,22,16,6,2,0,2,22,14,8,5,3,2]

{"sheet":"정도별","index":2,"n_rows":22,"n_cols":12,"rows_kept":22,"cut":false,"hidden":false,"merged":[[1,1,1,11],[5,1,21,1],[3,6,3,8],[3,3,3,5],[3,2,4,2],[3,1,4,1],[3,9,3,11],[2,10,2,11],[2,1,2,2]]}
[]
[null,"은평구 동별 장애인현황(정도별)"]
[null,"*2024. 8월말 기준",{"$nulls":8},"(단위 : 명)"]
[null,"자치구","동","합계",null,null,"심한 장애",null,null,"심하지 않은 장애"]
[null,null,null,"계","남자","여자","계","남자","여자","계","남자","여자"]
[null,"은평구","합  계",21369,12444,8925,8107,5074,3033,13262,7370,5892]
[null,null,"녹번동",1623,926,697,557,319,238,1066,607,459]
[null,null,"불광1동",1625,914,711,557,318,239,1068,596,472]
[null,null,"불광2동",1427,845,582,478,288,190,949,557,392]
[null,null,"갈현1동",689,383,306,253,138,115,436,245,191]
[null,null,"갈현2동",1274,739,535,490,290,200,784,449,335]
[null,null,"구산동",2127,1469,658,1150,907,243,977,562,415]
[null,null,"대조동",1219,702,517,434,263,171,785,439,346]
[null,null,"응암1동",1323,727,596,455,265,190,868,462,406]
[null,null,"응암2동",975,538,437,379,233,146,596,305,291]
[null,null,"응암3동",1302,737,565,389,238,151,913,499,414]
[null,null,"역촌동",2141,1198,943,779,457,322,1362,741,621]
[null,null,"신사1동",1237,745,492,491,305,186,746,440,306]
[null,null,"신사2동",892,513,379,327,206,121,565,307,258]
[null,null,"증산동",756,443,313,273,175,98,483,268,215]
[null,null,"수색동",823,449,374,323,189,134,500,260,240]
[null,null,"진관동",1936,1116,820,772,483,289,1164,633,531]

{"sheet":"연령별","index":3,"n_rows":28,"n_cols":11,"rows_kept":28,"cut":false,"hidden":false,"merged":[[5,0,26,0],[3,8,3,10],[0,0,0,10],[1,0,1,10],[2,0,2,8],[2,9,2,10],[3,0,4,0],[3,1,4,1],[3,2,3,4],[3,5,3,7]]}
["은평구 장애인 연령구간별(5세 간격), 장애정도별 등록 현황"]
[{"$f":"정도별!B3","v":"*2024. 8월말 기준"}]
[{"$nulls":9},"(단위: 명)"]
["구분","나이","합계",null,null,"심한 장애",null,null,"심하지 않은 장애"]
[null,null,"합계","남성","여성","소계","남성","여성","소계","남성","여성"]
["합계","합계",21369,12444,8925,8107,5074,3033,13262,7370,5892]
[null,"0~4",40,19,21,33,18,15,7,1,6]
[null,"5~9",267,184,83,244,173,71,23,11,12]
[null,"10~14",312,208,104,288,190,98,24,18,6]
[null,"15~19",250,165,85,215,148,67,35,17,18]
[null,"20~24",385,237,148,323,208,115,62,29,33]
[null,"25~29",490,308,182,383,250,133,107,58,49]
[null,"30~34",549,355,194,404,266,138,145,89,56]
[null,"35~39",499,314,185,299,190,109,200,124,76]
[null,"40~44",677,452,225,368,222,146,309,230,79]
[null,"45~49",872,612,260,440,294,146,432,318,114]
[null,"50~54",1348,918,430,660,425,235,688,493,195]
[null,"55~59",1678,1125,553,680,439,241,998,686,312]
[null,"60~64",2192,1474,718,809,552,257,1383,922,461]
[null,"65~69",2444,1494,950,786,501,285,1658,993,665]
[null,"70~74",2407,1351,1056,677,445,232,1730,906,824]
[null,"75~79",2515,1299,1216,567,319,248,1948,980,968]
[null,"80~84",2391,1127,1264,489,253,236,1902,874,1028]
[null,"85~89",1482,608,874,323,136,187,1159,472,687]
[null,"90~94",466,155,311,100,38,62,366,117,249]
[null,"95~99",89,36,53,15,6,9,74,30,44]
[null,"100~104",15,3,12,3,1,2,12,2,10]
[null,"105~109",1,0,1,1,0,1,0,0,0]

{"sheet":"연령별,유형별","index":4,"n_rows":110,"n_cols":50,"rows_kept":110,"cut":false,"hidden":false,"merged":[[89,0,109,0],[2,44,2,46],[2,47,2,49],[4,0,4,1],[1,1,1,25],[5,0,44,0],[45,0,88,0],[2,38,2,40],[2,41,2,43],[2,29,2,31],[2,32,2,34],[2,35,2,37],[0,0,0,49],[2,0,3,0],[2,1,3,1],[2,2,2,4],[2,5,2,7],[2,8,2,10],[2,11,2,13],[2,14,2,16],[2,17,2,19],[2,20,2,22],[2,23,2,25],[2,26,2,28]]}
["은평구 등록장애인 연령별, 유형별 현황"]
[null,{"$f":"정도별!B3","v":"*2024. 8월말 기준"}]
["구분","나이","합계",null,null,"지체",null,null,"시각",null,null,"청각",null,null,"언어",null,null,"지적",null,null,"뇌병변",null,null,"자폐",null,null,"정신",null,null,"신장",null,null,"심장",null,null,"호흡기",null,null,"간",null,null,"안면",null,null,"장루.요루",null,null,"뇌전증"]
[null,null,"합계","남성","여성","소계","남성","여성","소계","남성","여성","소계","남성","여성","소계","남성","여성","소계","남성","여성","소계","남성","여성","소계","남성","여성","소계","남성","여성","소계","남성","여성","소계","남성","여성","소계","남성","여성","소계","남성","여성","소계","남성","여성","소계","남성","여성","소계","남성","여성"]
["합계",null,21369,12444,8925,8420,4596,3824,2276,1331,945,3359,1867,1492,170,123,47,1875,1231,644,2121,1251,870,473,395,78,1128,691,437,952,582,370,44,26,18,115,82,33,162,107,55,24,14,10,182,115,67,68,33,35]
["합계","1",2,0,2,0,0,0,0,0,0,0,0,0,0,0,0,0,0,0,2,0,2,0,0,0,0,0,0,0,0,0,0,0,0,0,0,0,0,0,0,0,0,0,0,0,0,0,0,0]
[null,"2",9,4,5,0,0,0,0,0,0,2,1,1,0,0,0,1,0,1,5,2,3,0,0,0,0,0,0,1,1,0,0,0,0,0,0,0,0,0,0,0,0,0,0,0,0,0,0,0]
[null,"3",5,3,2,0,0,0,0,0,0,0,0,0,0,0,0,2,1,1,3,2,1,0,0,0,0,0,0,0,0,0,0,0,0,0,0,0,0,0,0,0,0,0,0,0,0,0,0,0]
[null,"4",24,12,12,1,1,0,1,1,0,3,1,2,2,0,2,5,3,2,5,2,3,6,4,2,0,0,0,0,0,0,0,0,0,0,0,0,0,0,0,0,0,0,1,0,1,0,0,0]
[null,"5",39,21,18,1,0,1,1,1,0,2,1,1,2,1,1,3,2,1,13,5,8,16,11,5,0,0,0,0,0,0,0,0,0,0,0,0,0,0,0,0,0,0,0,0,0,1,0,1]
[null,"6",57,39,18,1,0,1,0,0,0,0,0,0,3,2,1,14,9,5,12,4,8,27,24,3,0,0,0,0,0,0,0,0,0,0,0,0,0,0,0,0,0,0,0,0,0,0,0,0]
[null,"7",56,41,15,0,0,0,0,0,0,2,0,2,6,5,1,12,8,4,5,3,2,29,23,6,0,0,0,0,0,0,0,0,0,0,0,0,0,0,0,0,0,0,1,1,0,1,1,0]
[null,"8",61,45,16,0,0,0,1,0,1,3,2,1,2,1,1,14,11,3,4,1,3,37,30,7,0,0,0,0,0,0,0,0,0,0,0,0,0,0,0,0,0,0,0,0,0,0,0,0]
[null,"9",54,38,16,0,0,0,1,1,0,3,0,3,0,0,0,24,18,6,6,3,3,20,16,4,0,0,0,0,0,0,0,0,0,0,0,0,0,0,0,0,0,0,0,0,0,0,0,0]
[null,"10",62,37,25,0,0,0,0,0,0,2,1,1,1,1,0,26,12,14,11,7,4,22,16,6,0,0,0,0,0,0,0,0,0,0,0,0,0,0,0,0,0,0,0,0,0,0,0,0]
[null,"11",59,40,19,0,0,0,1,0,1,3,0,3,1,1,0,22,16,6,8,3,5,22,18,4,0,0,0,0,0,0,1,1,0,0,0,0,1,1,0,0,0,0,0,0,0,0,0,0]
[null,"12",63,37,26,2,1,1,2,2,0,1,0,1,0,0,0,26,14,12,13,4,9,19,16,3,0,0,0,0,0,0,0,0,0,0,0,0,0,0,0,0,0,0,0,0,0,0,0,0]
[null,"13",65,49,16,3,2,1,3,1,2,2,1,1,1,1,0,29,22,7,4,3,1,23,19,4,0,0,0,0,0,0,0,0,0,0,0,0,0,0,0,0,0,0,0,0,0,0,0,0]
[null,"14",63,45,18,1,1,0,1,0,1,0,0,0,1,1,0,27,16,11,8,6,2,25,21,4,0,0,0,0,0,0,0,0,0,0,0,0,0,0,0,0,0,0,0,0,0,0,0,0]
[null,"15",50,31,19,4,3,1,0,0,0,1,1,0,0,0,0,25,13,12,3,2,1,14,10,4,0,0,0,0,0,0,1,1,0,0,0,0,1,1,0,0,0,0,1,0,1,0,0,0]
[null,"16",55,40,15,1,1,0,2,0,2,1,0,1,0,0,0,32,26,6,9,5,4,10,8,2,0,0,0,0,0,0,0,0,0,0,0,0,0,0,0,0,0,0,0,0,0,0,0,0]
[null,"17",52,34,18,2,0,2,1,0,1,1,1,0,0,0,0,34,22,12,5,3,2,8,7,1,0,0,0,0,0,0,0,0,0,0,0,0,1,1,0,0,0,0,0,0,0,0,0,0]
[null,"18",47,31,16,4,3,1,1,1,0,1,0,1,0,0,0,30,21,9,4,1,3,6,5,1,0,0,0,0,0,0,0,0,0,0,0,0,1,0,1,0,0,0,0,0,0,0,0,0]
[null,"19",46,29,17,5,2,3,3,1,2,2,0,2,0,0,0,27,19,8,3,2,1,6,5,1,0,0,0,0,0,0,0,0,0,0,0,0,0,0,0,0,0,0,0,0,0,0,0,0]
[null,"20",75,47,28,3,2,1,0,0,0,4,1,3,1,1,0,47,26,21,7,5,2,12,12,0,0,0,0,1,0,1,0,0,0,0,0,0,0,0,0,0,0,0,0,0,0,0,0,0]
[null,"21",65,40,25,6,5,1,1,1,0,1,0,1,1,1,0,40,21,19,6,3,3,5,5,0,0,0,0,1,1,0,2,2,0,0,0,0,2,1,1,0,0,0,0,0,0,0,0,0]
[null,"22",71,41,30,4,0,4,4,3,1,5,1,4,0,0,0,41,29,12,6,2,4,5,4,1,1,1,0,0,0,0,2,1,1,0,0,0,3,0,3,0,0,0,0,0,0,0,0,0]
[null,"23",77,49,28,5,1,4,6,3,3,4,4,0,0,0,0,42,25,17,3,3,0,13,11,2,3,2,1,1,0,1,0,0,0,0,0,0,0,0,0,0,0,0,0,0,0,0,0,0]
[null,"24",97,60,37,13,4,9,3,1,2,8,4,4,0,0,0,44,32,12,4,3,1,16,13,3,4,2,2,0,0,0,2,0,2,1,1,0,1,0,1,0,0,0,0,0,0,1,0,1]
[null,"25",87,61,26,1,0,1,7,4,3,6,4,2,0,0,0,42,28,14,9,6,3,16,15,1,1,1,0,0,0,0,1,1,0,0,0,0,4,2,2,0,0,0,0,0,0,0,0,0]
[null,"26",95,53,42,11,6,5,8,4,4,5,0,5,2,2,0,49,30,19,5,2,3,7,5,2,4,1,3,3,2,1,0,0,0,0,0,0,0,0,0,0,0,0,0,0,0,1,1,0]
[null,"27",98,58,40,15,7,8,12,7,5,8,5,3,2,2,0,38,21,17,9,4,5,7,7,0,7,5,2,0,0,0,0,0,0,0,0,0,0,0,0,0,0,0,0,0,0,0,0,0]
[null,"28",111,62,49,10,3,7,10,6,4,6,2,4,0,0,0,55,31,24,5,3,2,14,11,3,8,4,4,1,1,0,0,0,0,0,0,0,1,1,0,0,0,0,0,0,0,1,0,1]
[null,"29",99,74,25,12,8,4,9,9,0,6,4,2,0,0,0,46,34,12,7,5,2,9,8,1,4,4,0,3,1,2,0,0,0,0,0,0,0,0,0,1,0,1,1,1,0,1,0,1]
[null,"30",109,70,39,11,6,5,12,9,3,6,3,3,0,0,0,52,30,22,10,5,5,12,12,0,2,2,0,3,2,1,0,0,0,0,0,0,0,0,0,0,0,0,0,0,0,1,1,0]
[null,"31",100,62,38,13,9,4,11,6,5,5,1,4,1,0,1,53,34,19,5,4,1,6,5,1,4,1,3,1,1,0,0,0,0,0,0,0,0,0,0,1,1,0,0,0,0,0,0,0]
[null,"32",139,88,51,21,12,9,14,10,4,7,5,2,2,1,1,56,37,19,12,7,5,8,7,1,9,5,4,6,4,2,3,0,3,0,0,0,0,0,0,0,0,0,1,0,1,0,0,0]
[null,"33",104,69,35,16,12,4,9,7,2,6,3,3,0,0,0,37,23,14,9,5,4,10,9,1,10,8,2,5,2,3,2,0,2,0,0,0,0,0,0,0,0,0,0,0,0,0,0,0]
[null,"34",97,66,31,16,9,7,16,12,4,4,1,3,0,0,0,32,23,9,6,5,1,7,7,0,11,5,6,3,2,1,0,0,0,0,0,0,0,0,0,0,0,0,1,1,0,1,1,0]
[null,"35",94,59,35,22,16,6,11,9,2,5,1,4,0,0,0,29,19,10,9,4,5,6,4,2,9,4,5,1,1,0,0,0,0,1,0,1,1,1,0,0,0,0,0,0,0,0,0,0]
[null,"36",96,68,28,26,18,8,9,5,4,3,2,1,0,0,0,33,25,8,10,9,1,6,6,0,4,1,3,4,2,2,0,0,0,0,0,0,0,0,0,0,0,0,0,0,0,1,0,1]
[null,"37",110,70,40,29,18,11,13,9,4,3,2,1,0,0,0,32,20,12,9,6,3,6,6,0,9,6,3,4,1,3,1,0,1,0,0,0,0,0,0,1,1,0,2,1,1,1,0,1]
[null,"38",102,60,42,25,13,12,20,12,8,4,2,2,1,1,0,28,17,11,4,4,0,4,4,0,9,5,4,3,2,1,0,0,0,1,0,1,1,0,1,0,0,0,1,0,1,1,0,1]
[null,"39",97,57,40,30,18,12,11,6,5,2,2,0,0,0,0,20,11,9,9,5,4,4,3,1,12,8,4,6,2,4,0,0,0,0,0,0,1,1,0,0,0,0,0,0,0,2,1,1]
[null,"40",104,68,36,32,26,6,9,5,4,2,0,2,1,0,1,25,17,8,16,10,6,0,0,0,12,7,5,5,2,3,0,0,0,0,0,0,0,0,0,0,0,0,1,1,0,1,0,1]
["합계","41",119,86,33,36,29,7,18,16,2,2,2,0,0,0,0,26,16,10,13,8,5,1,0,1,13,9,4,3,0,3,2,2,0,1,1,0,1,0,1,0,0,0,1,1,0,2,2,0]
[null,"42",148,96,52,52,43,9,17,12,5,6,1,5,1,0,1,31,17,14,10,6,4,2,2,0,18,10,8,8,4,4,0,0,0,0,0,0,0,0,0,0,0,0,0,0,0,3,1,2]
[null,"43",166,114,52,49,37,12,23,17,6,9,6,3,1,0,1,42,31,11,16,12,4,2,1,1,15,5,10,7,5,2,0,0,0,0,0,0,0,0,0,0,0,0,1,0,1,1,0,1]
[null,"44",140,88,52,49,35,14,14,8,6,10,5,5,0,0,0,21,14,7,12,5,7,1,1,0,20,12,8,9,6,3,0,0,0,1,0,1,1,1,0,0,0,0,0,0,0,2,1,1]
[null,"45",151,107,44,67,56,11,16,9,7,7,2,5,0,0,0,22,13,9,13,11,2,0,0,0,11,6,5,10,7,3,2,2,0,0,0,0,2,1,1,0,0,0,1,0,1,0,0,0]
[null,"46",153,109,44,61,47,14,18,14,4,8,4,4,2,2,0,24,15,9,10,6,4,0,0,0,22,16,6,6,4,2,0,0,0,0,0,0,1,1,0,1,0,1,0,0,0,0,0,0]
[null,"47",166,116,50,48,38,10,21,11,10,5,1,4,1,1,0,36,22,14,16,12,4,0,0,0,25,19,6,9,7,2,0,0,0,1,1,0,2,2,0,1,1,0,0,0,0,1,1,0]
[null,"48",188,136,52,75,60,15,21,10,11,11,4,7,0,0,0,39,33,6,13,9,4,2,2,0,16,11,5,7,5,2,0,0,0,1,1,0,1,0,1,1,1,0,0,0,0,1,0,1]
[null,"49",214,144,70,72,61,11,28,21,7,11,4,7,5,2,3,27,12,15,23,13,10,1,1,0,33,20,13,11,9,2,0,0,0,0,0,0,1,1,0,0,0,0,1,0,1,1,0,1]
[null,"50",233,152,81,79,57,22,30,19,11,11,3,8,4,3,1,29,21,8,29,17,12,0,0,0,33,22,11,10,7,3,0,0,0,1,1,0,1,1,0,2,0,2,0,0,0,4,1,3]
[null,"51",259,188,71,85,69,16,41,31,10,11,5,6,5,3,2,25,19,6,26,19,7,0,0,0,45,27,18,13,11,2,2,1,1,0,0,0,2,1,1,0,0,0,0,0,0,4,2,2]
[null,"52",284,195,89,100,77,23,29,21,8,18,11,7,1,1,0,35,24,11,29,21,8,1,1,0,35,17,18,21,12,9,0,0,0,2,1,1,4,2,2,2,1,1,2,2,0,5,4,1]
[null,"53",294,194,100,106,79,27,35,19,16,10,4,6,3,3,0,36,26,10,21,17,4,0,0,0,53,27,26,21,15,6,2,1,1,1,0,1,5,3,2,1,0,1,0,0,0,0,0,0]
[null,"54",278,189,89,115,84,31,28,20,8,12,6,6,1,1,0,29,18,11,29,22,7,0,0,0,34,21,13,20,12,8,0,0,0,0,0,0,4,4,0,0,0,0,2,1,1,4,0,4]
[null,"55",331,228,103,147,108,39,44,28,16,15,10,5,2,1,1,19,16,3,29,19,10,0,0,0,40,25,15,21,13,8,1,1,0,2,1,1,7,4,3,0,0,0,2,1,1,2,1,1]
[null,"56",328,221,107,141,107,34,33,19,14,19,11,8,4,2,2,19,12,7,30,18,12,0,0,0,50,32,18,23,15,8,1,0,1,0,0,0,5,5,0,0,0,0,1,0,1,2,0,2]
[null,"57",367,253,114,163,112,51,43,27,16,23,14,9,5,3,2,16,13,3,35,26,9,0,0,0,50,33,17,24,19,5,0,0,0,1,0,1,4,4,0,1,1,0,1,0,1,1,1,0]
[null,"58",331,208,123,136,90,46,44,26,18,25,13,12,4,4,0,20,14,6,30,21,9,0,0,0,31,16,15,26,12,14,2,2,0,2,2,0,6,4,2,0,0,0,4,3,1,1,1,0]
[null,"59",321,215,106,142,101,41,38,22,16,34,21,13,3,2,1,12,6,6,32,22,10,0,0,0,32,19,13,18,13,5,0,0,0,1,1,0,7,6,1,0,0,0,2,2,0,0,0,0]
[null,"60",355,245,110,171,121,50,40,28,12,26,17,9,2,1,1,12,8,4,41,33,8,0,0,0,24,14,10,29,16,13,2,1,1,1,0,1,4,3,1,0,0,0,3,3,0,0,0,0]
[null,"61",407,275,132,202,142,60,50,33,17,30,20,10,4,4,0,17,15,2,37,22,15,0,0,0,28,16,12,26,16,10,1,0,1,1,1,0,8,5,3,1,0,1,2,1,1,0,0,0]
[null,"62",383,273,110,172,120,52,44,33,11,36,25,11,3,3,0,13,12,1,37,29,8,0,0,0,40,25,15,21,13,8,1,1,0,4,2,2,3,2,1,0,0,0,4,4,0,5,4,1]
[null,"63",516,332,184,246,162,84,57,35,22,51,31,20,2,2,0,20,13,7,58,34,24,0,0,0,37,26,11,24,17,7,2,2,0,2,1,1,8,4,4,0,0,0,7,3,4,2,2,0]
[null,"64",531,349,182,243,159,84,60,41,19,54,29,25,9,7,2,15,12,3,47,34,13,0,0,0,39,27,12,39,24,15,2,2,0,5,3,2,9,6,3,0,0,0,7,3,4,2,2,0]
[null,"65",501,333,168,228,160,68,50,36,14,53,28,25,4,2,2,17,10,7,59,41,18,0,0,0,42,25,17,30,19,11,0,0,0,6,4,2,6,4,2,1,1,0,5,3,2,0,0,0]
[null,"66",470,286,184,245,150,95,44,26,18,50,31,19,6,2,4,5,3,2,65,41,24,0,0,0,21,15,6,25,11,14,0,0,0,2,1,1,2,2,0,3,3,0,2,1,1,0,0,0]
[null,"67",475,289,186,244,140,104,42,25,17,54,34,20,2,1,1,10,7,3,46,31,15,0,0,0,29,19,10,26,16,10,2,2,0,8,4,4,6,5,1,1,1,0,4,3,1,1,1,0]
[null,"68",473,278,195,236,135,101,45,27,18,59,29,30,4,3,1,11,6,5,52,36,16,0,0,0,23,19,4,33,18,15,1,0,1,4,3,1,2,1,1,0,0,0,1,0,1,2,1,1]
[null,"69",525,308,217,261,147,114,54,35,19,55,26,29,5,4,1,7,3,4,62,39,23,0,0,0,28,16,12,29,20,9,2,1,1,9,7,2,5,5,0,0,0,0,6,3,3,2,2,0]
[null,"70",493,275,218,251,131,120,49,28,21,68,46,22,4,4,0,4,3,1,60,31,29,0,0,0,13,4,9,26,18,8,0,0,0,5,3,2,7,4,3,0,0,0,5,3,2,1,0,1]
[null,"71",472,281,191,228,120,108,58,29,29,65,46,19,2,2,0,4,3,1,53,42,11,0,0,0,21,14,7,28,17,11,0,0,0,2,1,1,4,2,2,0,0,0,7,5,2,0,0,0]
[null,"72",487,283,204,235,119,116,53,34,19,78,47,31,4,4,0,7,6,1,60,40,20,0,0,0,14,10,4,23,15,8,0,0,0,2,2,0,4,2,2,1,0,1,6,4,2,0,0,0]
[null,"73",418,210,208,205,81,124,35,18,17,79,51,28,6,6,0,7,5,2,42,22,20,0,0,0,9,3,6,24,15,9,0,0,0,4,4,0,3,3,0,1,1,0,3,1,2,0,0,0]
[null,"74",537,302,235,248,124,124,61,30,31,103,69,34,2,1,1,6,6,0,58,33,25,0,0,0,18,14,4,27,15,12,0,0,0,6,5,1,4,4,0,0,0,0,4,1,3,0,0,0]
[null,"75",511,269,242,245,109,136,69,38,31,94,56,38,1,1,0,3,2,1,54,32,22,0,0,0,7,6,1,27,16,11,0,0,0,5,5,0,3,3,0,0,0,0,1,1,0,2,0,2]
[null,"76",534,273,261,253,120,133,67,34,33,110,70,40,7,5,2,0,0,0,54,26,28,0,0,0,9,3,6,18,7,11,0,0,0,5,3,2,4,1,3,0,0,0,7,4,3,0,0,0]
[null,"77",570,301,269,261,115,146,82,45,37,126,83,43,2,1,1,3,1,2,60,33,27,0,0,0,5,2,3,19,15,4,1,0,1,2,2,0,1,0,1,0,0,0,8,4,4,0,0,0]
[null,"78",426,224,202,214,90,124,56,25,31,88,64,24,4,3,1,0,0,0,36,22,14,0,0,0,3,3,0,13,8,5,0,0,0,5,5,0,1,0,1,0,0,0,6,4,2,0,0,0]
[null,"79",474,232,242,213,90,123,50,30,20,121,68,53,3,2,1,1,0,1,55,22,33,0,0,0,5,3,2,12,7,5,1,0,1,5,3,2,1,1,0,1,1,0,6,5,1,0,0,0]
[null,"80",473,233,240,207,78,129,48,23,25,135,78,57,3,3,0,3,2,1,45,25,20,0,0,0,4,4,0,16,11,5,0,0,0,2,2,0,1,0,1,1,1,0,7,6,1,1,0,1]
[null,"81",544,252,292,242,76,166,69,39,30,160,97,63,4,3,1,0,0,0,37,17,20,0,0,0,2,2,0,16,9,7,0,0,0,5,4,1,1,0,1,1,0,1,7,5,2,0,0,0]
[null,"82",558,261,297,253,92,161,62,29,33,155,87,68,1,0,1,2,2,0,53,31,22,0,0,0,2,0,2,15,10,5,0,0,0,2,2,0,2,0,2,0,0,0,9,7,2,2,1,1]
[null,"83",419,190,229,168,63,105,51,26,25,132,71,61,1,1,0,2,2,0,37,13,24,0,0,0,3,1,2,19,10,9,0,0,0,1,0,1,0,0,0,0,0,0,5,3,2,0,0,0]
[null,"84",397,191,206,159,59,100,39,17,22,142,85,57,4,3,1,0,0,0,34,16,18,0,0,0,0,0,0,12,7,5,0,0,0,0,0,0,1,1,0,1,0,1,5,3,2,0,0,0]
["합계","85",368,161,207,139,44,95,46,23,23,125,69,56,1,1,0,0,0,0,36,13,23,0,0,0,1,0,1,13,4,9,0,0,0,2,2,0,0,0,0,0,0,0,5,5,0,0,0,0]
[null,"86",344,145,199,126,41,85,26,12,14,126,61,65,2,2,0,2,1,1,39,13,26,0,0,0,0,0,0,12,7,5,1,1,0,1,1,0,0,0,0,0,0,0,9,6,3,0,0,0]
[null,"87",321,133,188,133,39,94,21,12,9,119,57,62,1,1,0,1,1,0,31,13,18,0,0,0,1,1,0,12,7,5,0,0,0,1,1,0,0,0,0,0,0,0,1,1,0,0,0,0]
[null,"88",246,105,141,81,24,57,24,11,13,106,48,58,1,0,1,0,0,0,23,13,10,0,0,0,0,0,0,7,5,2,1,1,0,0,0,0,0,0,0,0,0,0,3,3,0,0,0,0]
[null,"89",203,64,139,77,13,64,20,5,15,78,37,41,0,0,0,1,0,1,16,3,13,0,0,0,1,0,1,7,4,3,0,0,0,0,0,0,0,0,0,0,0,0,3,2,1,0,0,0]
[null,"90",172,62,110,59,12,47,12,3,9,85,42,43,0,0,0,0,0,0,15,5,10,0,0,0,0,0,0,0,0,0,0,0,0,0,0,0,0,0,0,0,0,0,1,0,1,0,0,0]
[null,"91",109,41,68,27,7,20,13,6,7,58,24,34,3,2,1,0,0,0,8,2,6,0,0,0,0,0,0,0,0,0,0,0,0,0,0,0,0,0,0,0,0,0,0,0,0,0,0,0]
[null,"92",83,21,62,23,4,19,4,2,2,48,15,33,1,0,1,0,0,0,5,0,5,0,0,0,0,0,0,2,0,2,0,0,0,0,0,0,0,0,0,0,0,0,0,0,0,0,0,0]
[null,"93",62,23,39,16,5,11,11,3,8,30,13,17,0,0,0,0,0,0,3,1,2,0,0,0,0,0,0,1,0,1,0,0,0,0,0,0,0,0,0,0,0,0,1,1,0,0,0,0]
[null,"94",40,8,32,13,0,13,2,1,1,23,6,17,0,0,0,0,0,0,1,0,1,0,0,0,0,0,0,1,1,0,0,0,0,0,0,0,0,0,0,0,0,0,0,0,0,0,0,0]
[null,"95",41,20,21,10,3,7,4,2,2,22,12,10,0,0,0,0,0,0,3,1,2,0,0,0,0,0,0,0,0,0,0,0,0,1,1,0,0,0,0,0,0,0,1,1,0,0,0,0]
[null,"96",26,9,17,7,1,6,2,0,2,15,7,8,0,0,0,0,0,0,0,0,0,0,0,0,0,0,0,0,0,0,0,0,0,0,0,0,0,0,0,0,0,0,2,1,1,0,0,0]
[null,"97",9,4,5,4,1,3,1,1,0,4,2,2,0,0,0,0,0,0,0,0,0,0,0,0,0,0,0,0,0,0,0,0,0,0,0,0,0,0,0,0,0,0,0,0,0,0,0,0]
[null,"98",8,1,7,0,0,0,0,0,0,7,1,6,0,0,0,0,0,0,0,0,0,0,0,0,0,0,0,0,0,0,0,0,0,0,0,0,0,0,0,0,0,0,1,0,1,0,0,0]
[null,"99",5,2,3,2,1,1,0,0,0,3,1,2,0,0,0,0,0,0,0,0,0,0,0,0,0,0,0,0,0,0,0,0,0,0,0,0,0,0,0,0,0,0,0,0,0,0,0,0]
[null,"100",5,1,4,2,0,2,0,0,0,2,0,2,0,0,0,0,0,0,0,0,0,0,0,0,0,0,0,1,1,0,0,0,0,0,0,0,0,0,0,0,0,0,0,0,0,0,0,0]
[null,"101",5,1,4,1,0,1,1,0,1,3,1,2,0,0,0,0,0,0,0,0,0,0,0,0,0,0,0,0,0,0,0,0,0,0,0,0,0,0,0,0,0,0,0,0,0,0,0,0]
[null,"102",2,0,2,0,0,0,0,0,0,2,0,2,0,0,0,0,0,0,0,0,0,0,0,0,0,0,0,0,0,0,0,0,0,0,0,0,0,0,0,0,0,0,0,0,0,0,0,0]
[null,"103",2,1,1,1,1,0,0,0,0,1,0,1,0,0,0,0,0,0,0,0,0,0,0,0,0,0,0,0,0,0,0,0,0,0,0,0,0,0,0,0,0,0,0,0,0,0,0,0]
[null,"104",1,0,1,0,0,0,0,0,0,1,0,1,0,0,0,0,0,0,0,0,0,0,0,0,0,0,0,0,0,0,0,0,0,0,0,0,0,0,0,0,0,0,0,0,0,0,0,0]
[null,"105",1,0,1,0,0,0,0,0,0,1,0,1,0,0,0,0,0,0,0,0,0,0,0,0,0,0,0,0,0,0,0,0,0,0,0,0,0,0,0,0,0,0,0,0,0,0,0,0]

{"sheet":"Sheet1","index":5,"n_rows":16,"n_cols":2,"rows_kept":16,"cut":false,"hidden":true,"merged":[]}
[" 구산동",2238]
[" 역촌동",2143]
[" 진관동",1968]
[" 불광1동",1720]
[" 녹번동",1641]
[" 불광2동",1442]
[" 응암3동",1327]
[" 응암1동",1326]
[" 대조동",1230]
[" 신사1동",1229]
[" 갈현2동",1204]
[" 갈현1동",1046]
[" 응암2동",987]
[" 신사2동",927]
[" 증산동",703]
[" 수색동",623]

{"sheet":"Sheet2","index":6,"n_rows":22,"n_cols":18,"rows_kept":22,"cut":false,"hidden":true,"merged":[[1,13,2,13],[21,0,21,12],[1,10,1,12],[0,0,0,9],[1,0,2,0],[1,1,1,3],[1,4,1,6],[1,7,1,9]]}
[" 은평구 동별 장애인현황(유형별)\n(2024. 3월말)"]
["동별","합계",null,null,"지적",null,null,"자폐",null,null,"발달장애인",null,null,"발달장애인비율"]
[null,"합계","남성","여성","소계","남성","여성","소계","남성","여성","소계","남성","여성"]
["합  계",{"$f":"C4+D4","v":21369},{"$f":"SUM(C5:C20)","v":12444},{"$f":"SUM(D5:D20)","v":8925},{"$f":"F4+G4","v":1875},{"$f":"SUM(F5:F20)","v":1231},{"$f":"SUM(G5:G20)","v":644},{"$f":"I4+J4","v":473},{"$f":"SUM(I5:I20)","v":395},{"$f":"SUM(J5:J20)","v":78},{"$f":"L4+M4","v":2348},{"$f":"F4+I4","v":1626},{"$f":"G4+J4","v":722},{"$f":"K4/B4","v":0.10987879638729001}]
["녹번동",{"$f":"C5+D5","v":1623},{"$f":"유형별!C5","v":926},{"$f":"유형별!D5","v":697},{"$f":"F5+G5","v":117},{"$f":"유형별!R5","v":73},{"$f":"유형별!S5","v":44},{"$f":"I5+J5","v":22},{"$f":"유형별!X5","v":16},{"$f":"유형별!Y5","v":6},{"$f":"E5+H5","v":139},{"$f":"F5+I5","v":89},{"$f":"G5+J5","v":50},8.5643869377695622E-2]
["불광1동",1625,{"$f":"유형별!C6","v":914},{"$f":"유형별!D6","v":711},104,{"$f":"유형별!R6","v":59},{"$f":"유형별!S6","v":45},29,{"$f":"유형별!X6","v":25},{"$f":"유형별!Y6","v":4},133,84,49,8.1846153846153846E-2]
["불광2동",1427,{"$f":"유형별!C7","v":845},{"$f":"유형별!D7","v":582},112,{"$f":"유형별!R7","v":70},{"$f":"유형별!S7","v":42},26,{"$f":"유형별!X7","v":26},{"$f":"유형별!Y7","v":0},138,96,42,9.6706377014716183E-2]
["갈현1동",689,{"$f":"유형별!C8","v":383},{"$f":"유형별!D8","v":306},56,{"$f":"유형별!R8","v":34},{"$f":"유형별!S8","v":22},15,{"$f":"유형별!X8","v":13},{"$f":"유형별!Y8","v":2},71,47,24,0.10304789550072568,null,null,null,{"$f":"2206/21767","v":0.10134607433270547}]
["갈현2동",1274,{"$f":"유형별!C9","v":739},{"$f":"유형별!D9","v":535},116,{"$f":"유형별!R9","v":71},{"$f":"유형별!S9","v":45},21,{"$f":"유형별!X9","v":15},{"$f":"유형별!Y9","v":6},137,86,51,0.1075353218210361]
["구산동",2127,{"$f":"유형별!C10","v":1469},{"$f":"유형별!D10","v":658},396,{"$f":"유형별!R10","v":307},{"$f":"유형별!S10","v":89},44,{"$f":"유형별!X10","v":37},{"$f":"유형별!Y10","v":7},440,344,96,0.2068641278796427]
["대조동",1219,{"$f":"유형별!C11","v":702},{"$f":"유형별!D11","v":517},67,{"$f":"유형별!R11","v":46},{"$f":"유형별!S11","v":21},25,{"$f":"유형별!X11","v":20},{"$f":"유형별!Y11","v":5},92,66,26,7.5471698113207544E-2]
["응암1동",1323,{"$f":"유형별!C12","v":727},{"$f":"유형별!D12","v":596},70,{"$f":"유형별!R12","v":43},{"$f":"유형별!S12","v":27},29,{"$f":"유형별!X12","v":25},{"$f":"유형별!Y12","v":4},99,68,31,7.4829931972789115E-2]
["응암2동",975,{"$f":"유형별!C13","v":538},{"$f":"유형별!D13","v":437},69,{"$f":"유형별!R13","v":44},{"$f":"유형별!S13","v":25},36,{"$f":"유형별!X13","v":31},{"$f":"유형별!Y13","v":5},105,75,30,0.1076923076923077]
["응암3동",1302,{"$f":"유형별!C14","v":737},{"$f":"유형별!D14","v":565},90,{"$f":"유형별!R14","v":60},{"$f":"유형별!S14","v":30},18,{"$f":"유형별!X14","v":14},{"$f":"유형별!Y14","v":4},108,74,34,8.294930875576037E-2]
["역촌동",2141,{"$f":"유형별!C15","v":1198},{"$f":"유형별!D15","v":943},196,{"$f":"유형별!R15","v":125},{"$f":"유형별!S15","v":71},39,{"$f":"유형별!X15","v":32},{"$f":"유형별!Y15","v":7},235,157,78,0.10976179355441383]
["신사1동",1237,{"$f":"유형별!C16","v":745},{"$f":"유형별!D16","v":492},148,{"$f":"유형별!R16","v":86},{"$f":"유형별!S16","v":62},25,{"$f":"유형별!X16","v":20},{"$f":"유형별!Y16","v":5},173,106,67,0.13985448666127728]
["신사2동",892,{"$f":"유형별!C17","v":513},{"$f":"유형별!D17","v":379},84,{"$f":"유형별!R17","v":48},{"$f":"유형별!S17","v":36},21,{"$f":"유형별!X17","v":17},{"$f":"유형별!Y17","v":4},105,65,40,0.11771300448430494]
["증산동",756,{"$f":"유형별!C18","v":443},{"$f":"유형별!D18","v":313},52,{"$f":"유형별!R18","v":34},{"$f":"유형별!S18","v":18},17,{"$f":"유형별!X18","v":17},{"$f":"유형별!Y18","v":0},69,51,18,9.1269841269841265E-2]
["수색동",823,{"$f":"유형별!C19","v":449},{"$f":"유형별!D19","v":374},67,{"$f":"유형별!R19","v":45},{"$f":"유형별!S19","v":22},24,{"$f":"유형별!X19","v":20},{"$f":"유형별!Y19","v":4},91,65,26,0.11057108140947752]
["진관동",1936,{"$f":"유형별!C20","v":1116},{"$f":"유형별!D20","v":820},131,{"$f":"유형별!R20","v":86},{"$f":"유형별!S20","v":45},82,{"$f":"유형별!X20","v":67},{"$f":"유형별!Y20","v":15},213,153,60,0.11002066115702479]
[]
["*발달장애인 수는 2,206명으로  전체 장애인의 10.1%"]

{"sheet":"Sheet3","index":7,"n_rows":41,"n_cols":17,"rows_kept":41,"cut":false,"hidden":true,"merged":[[1,0,2,0],[1,1,2,1],[1,2,1,4],[3,0,18,0],[1,6,2,6],[1,8,1,10],[3,6,18,6],[1,12,2,12],[1,13,2,13],[1,14,1,16],[3,12,18,12],[1,7,2,7]]}
[]
["자치구","장애유형","2023",null,null,null,"자치구","장애유형","2022",null,null,null,"자치구","장애유형","2021"]
[null,null,"계","남","여",null,null,null,"계","남","여",null,null,null,"계","남","여"]
["은평구","합 계",21602,12604,8998,null,"은평구","합 계",{"$f":"SUM(I5:I19)","v":21753},{"$f":"SUM(J5:J19)","v":12687},9066,null,"은평구","합 계",21753,12704,9049]
[null,"지체",8636,4714,3922,null,null,"지체",8837,4842,3995,null,null,"지체",8917,4897,4020]
[null,"시각",2265,1340,925,null,null,"시각",2274,1364,910,null,null,"시각",2315,1387,928]
[null,"청각",3350,1869,1481,null,null,"청각",3350,1853,1497,null,null,"청각",3282,1814,1468]
[null,"언어",173,124,49,null,null,"언어",181,134,47,null,null,"언어",177,129,48]
[null,"지적",1863,1222,641,null,null,"지적",1828,1200,628,null,null,"지적",1805,1185,620]
[null,"뇌병변",2188,1307,881,null,null,"뇌병변",2218,1318,900,null,null,"뇌병변",2244,1349,895]
[null,"자폐성",450,377,73,null,null,"자폐성",396,333,63,null,null,"자폐성",355,298,57]
[null,"정신",1137,696,441,null,null,"정신",1148,705,443,null,null,"정신",1162,718,444]
[null,"신장",928,569,359,null,null,"신장",894,542,352,null,null,"신장",874,533,341]
[null,"심장",49,26,23,null,null,"심장",55,24,31,null,null,"심장",55,26,29]
[null,"호흡기",122,88,34,null,null,"호흡기",120,86,34,null,null,"호흡기",130,92,38]
[null,"간",164,109,55,null,null,"간",168,113,55,null,null,"간",166,114,52]
[null,"안면",25,13,12,null,null,"안면",22,11,11,null,null,"안면",23,12,11]
[null,"장루.요루",187,118,69,null,null,"장루.요루",194,126,68,null,null,"장루.요루",181,114,67]
[null,"뇌전증",65,32,33,null,null,"뇌전증",68,36,32,null,null,"뇌전증",67,36,31]
[]
[]
[null,null,2023,2022,2021,null,2024,2025,2026,2027,2028]
["외부신체기능장애",null,{"$f":"SUM(C5,C10,C6,C7,C8,C17)","v":16637},{"$f":"SUM(I5,I10,I6,I7,I8,I17)","v":16882},{"$f":"SUM(O5,O10,O6,O7,O8,O17)","v":16958},null,{"$f":"C23+C23*$G$29","v":16478.998411},{"$f":"G23+G23*$G$29","v":16322.497363090733},{"$f":"H23+H23*$G$29","v":16167.48260563346},{"$f":"I23+I23*$G$29","v":16013.940023327759},{"$f":"J23+J23*$G$29","v":15861.855634926216}]
["내부기관장애",null,{"$f":"SUM(C13,C14,C16,C15,C18,C19)","v":1515},{"$f":"SUM(I13:I16,I18,I19)","v":1499},{"$f":"SUM(O13:O16,O18:O19)","v":1473},null,{"$f":"C24+C24*$G$30","v":1536.4523999999999},{"$f":"G24+G24*$G$30","v":1558.208565984},{"$f":"H24+H24*$G$30","v":1580.2727992783334},{"$f":"I24+I24*$G$30","v":1602.6494621161146},{"$f":"J24+J24*$G$30","v":1625.3429784996788}]
["정신적장애",null,{"$f":"SUM(C9,C12,C11)","v":3450},{"$f":"SUM(I9,I11,I12)","v":3372},{"$f":"SUM(O9,O11,O12)","v":3322},null,{"$f":"C25+C25*$G$31","v":3515.8604999999998},{"$f":"G25+G25*$G$31","v":3582.9782769449998},{"$f":"H25+H25*$G$31","v":3651.37733225188},{"$f":"I25+I25*$G$31","v":3721.0821255245683},{"$f":"J25+J25*$G$31","v":3792.1175833008324}]
["계",null,{"$f":"SUM(C23:C25)","v":21602},{"$f":"SUM(D23:D25)","v":21753},{"$f":"SUM(E23:E25)","v":21753},null,{"$f":"SUM(G23:G25)","v":21531.311310999998},{"$f":"SUM(H23:H25)","v":21463.684206019734},{"$f":"SUM(I23:I25)","v":21399.132737163673},{"$f":"SUM(J23:J25)","v":21337.671610968442},{"$f":"SUM(K23:K25)","v":21279.316196726726}]
[]
[]
["외부신체기능장애",null,{"$f":"(D23-C23)/D23","v":1.4512498519132805E-2},4.4816605731807999E-3,null,{"$f":"(C29+D29)/2","v":9.4970795461568024E-3},-9.4970000000000002E-3]
["내부기관장애",null,-1.067378252168112E-2,-1.7651052274270197E-2,null,{"$f":"(C30+D30)/2","v":-1.4162417397975659E-2},1.4160000000000001E-2]
["정신적장애",null,-2.3131672597864767E-2,-1.5051173991571343E-2,null,{"$f":"(C31+D31)/2","v":-1.9091423294718055E-2},1.9089999999999999E-2]
["계"]
[]
[]
[]
[null,null,2024,2025,2026,2027,2028]
[null,null,-2.5999999999999999E-3]
["외부신체기능장애",16637,16593.7438,16550.600066120001,16507.568505948089,16464.648827832625,16421.84074088026]
["내부기관장애",1515,1511.0609999999999,1507.1322413999999,1503.2136975723599,1499.3053419586718,1495.4071480695793]
["정신적장애",3450,3441.03,3432.0833220000004,3423.1599053628006,3414.2596896088571,3405.3826144158743]
[null,21602,21545.834800000001,21489.815629520002,21433.94210888325,21378.213859400155,21322.630503365712]